BEGIN:VCALENDAR
VERSION:2.0
PRODID:-//Prevital Group Srl - ECPv6.15.20//NONSGML v1.0//EN
CALSCALE:GREGORIAN
METHOD:PUBLISH
X-WR-CALNAME:Prevital Group Srl
X-ORIGINAL-URL:https://previtalgroup.it
X-WR-CALDESC:Eventi per Prevital Group Srl
REFRESH-INTERVAL;VALUE=DURATION:PT1H
X-Robots-Tag:noindex
X-PUBLISHED-TTL:PT1H
BEGIN:VTIMEZONE
TZID:UTC
BEGIN:STANDARD
TZOFFSETFROM:+0000
TZOFFSETTO:+0000
TZNAME:UTC
DTSTART:20250101T000000
END:STANDARD
END:VTIMEZONE
BEGIN:VEVENT
DTSTART;TZID=UTC:20260507T083000
DTEND;TZID=UTC:20260507T123000
DTSTAMP:20260419T144139
CREATED:20260320T133651Z
LAST-MODIFIED:20260320T133651Z
UID:34949-1778142600-1778157000@previtalgroup.it
SUMMARY:CORSO USO CARRELLI ELEVATORI (MULETTO) 2° LEZIONE
DESCRIPTION:LEZIONE 1/2 – SI RICORDA CHE PER LA VALIDAZIONE DEL CORSO E’ OBBLIGATORIO FREQUENTARE ENTRAMBE LE LEZIONI. \nIl corso è valido per il rilascio dell’Abilitazione all’uso di carrelli elevatori secondo quanto previsto dal D.Lgs. n. 81/2008 e s.m.i. e dall’Accordo Stato-Regioni e Province Autonome.\nPossibilità di effettuare corso in aula o in videoconferenza (parte teorica) ed è prevista esercitazione pratica.\nLa durata del corso di formazione per il conseguimento dell’Abilitazione all’uso carrello elevatore è di 12 ore per i carrelli industriali semoventi (muletti). \nDESTINATARI \nIl corso è destinato agli addetti che utilizzano i carrelli industriali semoventi (muletti) \nVALIDITA’ \nL’abilitazione ha la validità di 5 anni\, al termine dei quali è possibile effettuare il rinnovo attraverso un corso di aggiornamento della durata di 4 ore. \nDOCENTI \nEsperti nella specifica materia con esperienza pluriennale e in possesso dei requisiti del docente formatore in ambito sicurezza secondo DM 06/03/2013 \nMODALITÀ D’ISCRIZIONE \nPer le iscrizioni ai corsi clicca sul pulsante richiedi informazioni e compila il form per la richiesta di informazioni. \n\n\n  \n\n\n\n\n\n\n\n\n\nDichiaro di aver letto e compreso l'informativa\, i consensi obbligatori da prestare ed i miei diritti\nConsenso al trattamento dei dati per finalità di marketing come indicato nel relativo paragrafo dell'informativa privacy):\nAcconsentoNon acconsento
URL:https://previtalgroup.it/corsi/corso-uso-carrelli-elevatori-muletto-2-lezione-12/
LOCATION:Prevital Group\, Via J.F. Kennedy\, 29\, Cerro Maggiore\, Milano\, 20023\, Italia
CATEGORIES:Attrezzature
ORGANIZER;CN="Prevital Group":MAILTO:info@previtalgroup.it
END:VEVENT
BEGIN:VEVENT
DTSTART;TZID=UTC:20260513T090000
DTEND;TZID=UTC:20260513T180000
DTSTAMP:20260419T144139
CREATED:20260326T145506Z
LAST-MODIFIED:20260326T145506Z
UID:34960-1778662800-1778695200@previtalgroup.it
SUMMARY:CORSO RLS - LEZIONE 1/4
DESCRIPTION:Chi rappresenta i lavoratori in materia di sicurezza sul lavoro?\n\n\nIl Corso  prevede l’apporto di professionalità specialistiche in grado di offrire ai partecipanti elementi didattici sia teorici che pratici. I docenti sono esperti di sicurezza\, con pluriennale esperienza e sono in possesso delle qualifiche previste dall’Accordo Stato Regioni del 7/7/2016\, rep. atti n. 128/CSR e dal D.l. 6/3/13 relativo alla qualificazione dei docenti nei corsi di formazione sulla salute e sicurezza sul lavoro. \n\n\n\n\nSecondo il D.Lgs. 81/2008\, in tutte le aziende\, i lavoratori hanno l’attitudine di eleggere il rappresentante dei lavoratori per la sicurezza (RLS). Questa è una figura indispensabile poichè rappresenta il punto di incontro tra datore di lavoro e lavoratori relativamente agli argomenti riguardanti la sicurezza sul lavoro. \nProprio per questo motivo il RLS deve frequentare un corso di formazione di 32 ore da noi erogabile nelle nostre aule\, e deve partecipare ad un aggiornamento annuale obbligatorio seguendo un modulo che varia in base al numero di dipendenti presenti in azienda. \nIl RLS è soggetto ad un aggiornamento disciplinato dalla contrattazione collettiva nazionale di: \n\nminimo 4 ore all’anno per le imprese che occupano da 15 a 50 lavoratori;\nminimo 8 ore all’anno per le imprese che occupano più di 50 lavoratori.\n\nUn’altra caratteristica della figura del RLS di essenziale importanza è la sua possibilità di fare ricorso alle autorità giudiziarie competenti\, nel caso in cui le misure di prevenzione e protezione dai rischi adottate dal datore di lavoro o dai dirigenti e i mezzi impiegati per attuarle non siano idonei a garantire la sicurezza e la salute ai lavoratori in azienda. \nSolitamente si predilige scegliere una figura caratterizzata da un grande rapporto di fiducia con il Datore di Lavoro e competente in materia (possibilmente un familiare). \n  \nCHI PUO’ ESSERE ELETTO RLS? \nIn aziende fino a 15 dipendenti il RLS è eletto di norma tra tutti i lavoratori\, mentre in aziende oltre i 15 dipendenti\, il RLS può essere eletto nelle rappresentanze sindacali\, in mancanza di questi si può comunque procedere all’elezione tra i lavoratori. \nInoltre in base al numero al numero dei dipendenti è necessario avere il giusto numero di RLS: \n\nPer aziende fino a 200 dipendenti è previsto 1 RLS.\nPer aziende da 200 a 300 dipendenti sono previsti 3 RLS.\nPer aziende con oltre 300 dipendenti sono previsti 6 RLS.\n\n\n\n  \n\n\n  \n\n\n\n\n\n\n\n\n\nDichiaro di aver letto e compreso l'informativa\, i consensi obbligatori da prestare ed i miei diritti\nConsenso al trattamento dei dati per finalità di marketing come indicato nel relativo paragrafo dell'informativa privacy):\nAcconsentoNon acconsento
URL:https://previtalgroup.it/corsi/corso-rls-lezione-1-4-13/
LOCATION:Prevital Group\, Via J.F. Kennedy\, 29\, Cerro Maggiore\, Milano\, 20023\, Italia
CATEGORIES:RLS
END:VEVENT
BEGIN:VEVENT
DTSTART;TZID=UTC:20260520T090000
DTEND;TZID=UTC:20260520T180000
DTSTAMP:20260419T144139
CREATED:20260326T145550Z
LAST-MODIFIED:20260326T145550Z
UID:34962-1779267600-1779300000@previtalgroup.it
SUMMARY:CORSO RLS - LEZIONE 2/4
DESCRIPTION:Chi rappresenta i lavoratori in materia di sicurezza sul lavoro?\n\n\nIl Corso  prevede l’apporto di professionalità specialistiche in grado di offrire ai partecipanti elementi didattici sia teorici che pratici. I docenti sono esperti di sicurezza\, con pluriennale esperienza e sono in possesso delle qualifiche previste dall’Accordo Stato Regioni del 7/7/2016\, rep. atti n. 128/CSR e dal D.l. 6/3/13 relativo alla qualificazione dei docenti nei corsi di formazione sulla salute e sicurezza sul lavoro. \n\n\n\n\nSecondo il D.Lgs. 81/2008\, in tutte le aziende\, i lavoratori hanno l’attitudine di eleggere il rappresentante dei lavoratori per la sicurezza (RLS). Questa è una figura indispensabile poichè rappresenta il punto di incontro tra datore di lavoro e lavoratori relativamente agli argomenti riguardanti la sicurezza sul lavoro. \nProprio per questo motivo il RLS deve frequentare un corso di formazione di 32 ore da noi erogabile nelle nostre aule\, e deve partecipare ad un aggiornamento annuale obbligatorio seguendo un modulo che varia in base al numero di dipendenti presenti in azienda. \nIl RLS è soggetto ad un aggiornamento disciplinato dalla contrattazione collettiva nazionale di: \n\nminimo 4 ore all’anno per le imprese che occupano da 15 a 50 lavoratori;\nminimo 8 ore all’anno per le imprese che occupano più di 50 lavoratori.\n\nUn’altra caratteristica della figura del RLS di essenziale importanza è la sua possibilità di fare ricorso alle autorità giudiziarie competenti\, nel caso in cui le misure di prevenzione e protezione dai rischi adottate dal datore di lavoro o dai dirigenti e i mezzi impiegati per attuarle non siano idonei a garantire la sicurezza e la salute ai lavoratori in azienda. \nSolitamente si predilige scegliere una figura caratterizzata da un grande rapporto di fiducia con il Datore di Lavoro e competente in materia (possibilmente un familiare). \n  \nCHI PUO’ ESSERE ELETTO RLS? \nIn aziende fino a 15 dipendenti il RLS è eletto di norma tra tutti i lavoratori\, mentre in aziende oltre i 15 dipendenti\, il RLS può essere eletto nelle rappresentanze sindacali\, in mancanza di questi si può comunque procedere all’elezione tra i lavoratori. \nInoltre in base al numero al numero dei dipendenti è necessario avere il giusto numero di RLS: \n\nPer aziende fino a 200 dipendenti è previsto 1 RLS.\nPer aziende da 200 a 300 dipendenti sono previsti 3 RLS.\nPer aziende con oltre 300 dipendenti sono previsti 6 RLS.\n\n\n\n  \n\n\n  \n\n\n\n\n\n\n\n\n\nDichiaro di aver letto e compreso l'informativa\, i consensi obbligatori da prestare ed i miei diritti\nConsenso al trattamento dei dati per finalità di marketing come indicato nel relativo paragrafo dell'informativa privacy):\nAcconsentoNon acconsento
URL:https://previtalgroup.it/corsi/corso-rls-lezione-2-4-13/
LOCATION:Prevital Group\, Via J.F. Kennedy\, 29\, Cerro Maggiore\, Milano\, 20023\, Italia
CATEGORIES:RLS
END:VEVENT
BEGIN:VEVENT
DTSTART;TZID=UTC:20260527T090000
DTEND;TZID=UTC:20260527T180000
DTSTAMP:20260419T144139
CREATED:20260326T145650Z
LAST-MODIFIED:20260326T145650Z
UID:34964-1779872400-1779904800@previtalgroup.it
SUMMARY:CORSO RLS - LEZ 3/4
DESCRIPTION:Chi rappresenta i lavoratori in materia di sicurezza sul lavoro?\n\n\nIl Corso  prevede l’apporto di professionalità specialistiche in grado di offrire ai partecipanti elementi didattici sia teorici che pratici. I docenti sono esperti di sicurezza\, con pluriennale esperienza e sono in possesso delle qualifiche previste dall’Accordo Stato Regioni del 7/7/2016\, rep. atti n. 128/CSR e dal D.l. 6/3/13 relativo alla qualificazione dei docenti nei corsi di formazione sulla salute e sicurezza sul lavoro. \n\n\n\n\nSecondo il D.Lgs. 81/2008\, in tutte le aziende\, i lavoratori hanno l’attitudine di eleggere il rappresentante dei lavoratori per la sicurezza (RLS). Questa è una figura indispensabile poichè rappresenta il punto di incontro tra datore di lavoro e lavoratori relativamente agli argomenti riguardanti la sicurezza sul lavoro. \nProprio per questo motivo il RLS deve frequentare un corso di formazione di 32 ore da noi erogabile nelle nostre aule\, e deve partecipare ad un aggiornamento annuale obbligatorio seguendo un modulo che varia in base al numero di dipendenti presenti in azienda. \nIl RLS è soggetto ad un aggiornamento disciplinato dalla contrattazione collettiva nazionale di: \n\nminimo 4 ore all’anno per le imprese che occupano da 15 a 50 lavoratori;\nminimo 8 ore all’anno per le imprese che occupano più di 50 lavoratori.\n\nUn’altra caratteristica della figura del RLS di essenziale importanza è la sua possibilità di fare ricorso alle autorità giudiziarie competenti\, nel caso in cui le misure di prevenzione e protezione dai rischi adottate dal datore di lavoro o dai dirigenti e i mezzi impiegati per attuarle non siano idonei a garantire la sicurezza e la salute ai lavoratori in azienda. \nSolitamente si predilige scegliere una figura caratterizzata da un grande rapporto di fiducia con il Datore di Lavoro e competente in materia (possibilmente un familiare). \n  \nCHI PUO’ ESSERE ELETTO RLS? \nIn aziende fino a 15 dipendenti il RLS è eletto di norma tra tutti i lavoratori\, mentre in aziende oltre i 15 dipendenti\, il RLS può essere eletto nelle rappresentanze sindacali\, in mancanza di questi si può comunque procedere all’elezione tra i lavoratori. \nInoltre in base al numero al numero dei dipendenti è necessario avere il giusto numero di RLS: \n\nPer aziende fino a 200 dipendenti è previsto 1 RLS.\nPer aziende da 200 a 300 dipendenti sono previsti 3 RLS.\nPer aziende con oltre 300 dipendenti sono previsti 6 RLS.\n\n\n\n\n\n  \n\n\n\n\n\n\n\n\n\nDichiaro di aver letto e compreso l'informativa\, i consensi obbligatori da prestare ed i miei diritti\nConsenso al trattamento dei dati per finalità di marketing come indicato nel relativo paragrafo dell'informativa privacy):\nAcconsentoNon acconsento\n\n\n\n\n\n\n\n \n\n\n\n 
URL:https://previtalgroup.it/corsi/corso-rls-lez-3-4-3/
LOCATION:Prevital Group\, Via J.F. Kennedy\, 29\, Cerro Maggiore\, Milano\, 20023\, Italia
CATEGORIES:RLS
END:VEVENT
BEGIN:VEVENT
DTSTART;TZID=UTC:20260603T090000
DTEND;TZID=UTC:20260603T180000
DTSTAMP:20260419T144139
CREATED:20260326T145734Z
LAST-MODIFIED:20260326T145734Z
UID:34966-1780477200-1780509600@previtalgroup.it
SUMMARY:CORSO RLS - LEZ 4/4
DESCRIPTION:Chi rappresenta i lavoratori in materia di sicurezza sul lavoro?\n\n\nIl Corso  prevede l’apporto di professionalità specialistiche in grado di offrire ai partecipanti elementi didattici sia teorici che pratici. I docenti sono esperti di sicurezza\, con pluriennale esperienza e sono in possesso delle qualifiche previste dall’Accordo Stato Regioni del 7/7/2016\, rep. atti n. 128/CSR e dal D.l. 6/3/13 relativo alla qualificazione dei docenti nei corsi di formazione sulla salute e sicurezza sul lavoro. \n\n\n\n\nSecondo il D.Lgs. 81/2008\, in tutte le aziende\, i lavoratori hanno l’attitudine di eleggere il rappresentante dei lavoratori per la sicurezza (RLS). Questa è una figura indispensabile poichè rappresenta il punto di incontro tra datore di lavoro e lavoratori relativamente agli argomenti riguardanti la sicurezza sul lavoro. \nProprio per questo motivo il RLS deve frequentare un corso di formazione di 32 ore da noi erogabile nelle nostre aule\, e deve partecipare ad un aggiornamento annuale obbligatorio seguendo un modulo che varia in base al numero di dipendenti presenti in azienda. \nIl RLS è soggetto ad un aggiornamento disciplinato dalla contrattazione collettiva nazionale di: \n\nminimo 4 ore all’anno per le imprese che occupano da 15 a 50 lavoratori;\nminimo 8 ore all’anno per le imprese che occupano più di 50 lavoratori.\n\nUn’altra caratteristica della figura del RLS di essenziale importanza è la sua possibilità di fare ricorso alle autorità giudiziarie competenti\, nel caso in cui le misure di prevenzione e protezione dai rischi adottate dal datore di lavoro o dai dirigenti e i mezzi impiegati per attuarle non siano idonei a garantire la sicurezza e la salute ai lavoratori in azienda. \nSolitamente si predilige scegliere una figura caratterizzata da un grande rapporto di fiducia con il Datore di Lavoro e competente in materia (possibilmente un familiare). \n  \nCHI PUO’ ESSERE ELETTO RLS? \nIn aziende fino a 15 dipendenti il RLS è eletto di norma tra tutti i lavoratori\, mentre in aziende oltre i 15 dipendenti\, il RLS può essere eletto nelle rappresentanze sindacali\, in mancanza di questi si può comunque procedere all’elezione tra i lavoratori. \nInoltre in base al numero al numero dei dipendenti è necessario avere il giusto numero di RLS: \n\nPer aziende fino a 200 dipendenti è previsto 1 RLS.\nPer aziende da 200 a 300 dipendenti sono previsti 3 RLS.\nPer aziende con oltre 300 dipendenti sono previsti 6 RLS.\n\n\n\n\n\n  \n\n\n\n\n\n\n\n\n\nDichiaro di aver letto e compreso l'informativa\, i consensi obbligatori da prestare ed i miei diritti\nConsenso al trattamento dei dati per finalità di marketing come indicato nel relativo paragrafo dell'informativa privacy):\nAcconsentoNon acconsento\n\n\n\n\n\n\n\n \n\n\n\n 
URL:https://previtalgroup.it/corsi/corso-rls-lez-4-4-2/
LOCATION:Prevital Group\, Via J.F. Kennedy\, 29\, Cerro Maggiore\, Milano\, 20023\, Italia
CATEGORIES:RLS
END:VEVENT
END:VCALENDAR