BEGIN:VCALENDAR
VERSION:2.0
PRODID:-//Prevital Group Srl - ECPv6.15.20//NONSGML v1.0//EN
CALSCALE:GREGORIAN
METHOD:PUBLISH
X-ORIGINAL-URL:https://previtalgroup.it
X-WR-CALDESC:Eventi per Prevital Group Srl
REFRESH-INTERVAL;VALUE=DURATION:PT1H
X-Robots-Tag:noindex
X-PUBLISHED-TTL:PT1H
BEGIN:VTIMEZONE
TZID:UTC
BEGIN:STANDARD
TZOFFSETFROM:+0000
TZOFFSETTO:+0000
TZNAME:UTC
DTSTART:20240101T000000
END:STANDARD
END:VTIMEZONE
BEGIN:VEVENT
DTSTART;TZID=UTC:20250423T090000
DTEND;TZID=UTC:20250423T180000
DTSTAMP:20260425T143553
CREATED:20250328T093639Z
LAST-MODIFIED:20250328T093639Z
UID:33766-1745398800-1745431200@previtalgroup.it
SUMMARY:CORSO RSPP DATORE DI LAVORO LEZIONE 3
DESCRIPTION:[vc_row gap=”40″ full_height=”yes” equal_height=”yes” element_id=”402663″][vc_column][vc_column_text animation_delay=”0″]\nRSPP Datore di Lavoro\n\n\nL’articolo 34 del D.lgs. 81/2008 consente al Datore di lavoro di svolgere direttamente i compiti propri del Servizio di Prevenzione e Protezione dai rischi (DL RSPP) previa partecipazione a specifici corsi di formazione adeguati alla natura dei rischi presenti sul luogo di lavoro\, alle modalità di organizzazione del lavoro e alle attività lavorative svolte. \nI percorsi formativi sono articolati in moduli associati a tre differenti livelli di rischio aziendale: \n\nCorso di formazione per Basso rischio: 16 ore\nCorso di formazione per Medio rischio: 32 ore\nCorso di formazione per Alto rischio: 48 ore\n\nI corsi per Datore di lavoro RSPP forniscono le conoscenze di base sulla sicurezza e salute nei luoghi di lavoro e sono articolati in quattro moduli: \n\nModulo 1: Normativo – giuridico\nModulo 2: Gestionale\nModulo 3: Tecnico\nModulo 4: Relazionale\n\nDi questi quattro moduli\, il Modulo 1 (Normativo) ed il Modulo 2 (Gestionale) possono essere svolti in modalità eLearning; i Moduli 3 (Tecnico) e 4 (Relazionale) sono invece da svolgere esclusivamente con formazione in presenza. \n  \nAggiornamento\nSecondo quanto previsto dalla normativa\, il Datore di Lavoro che intende svolgere i compiti propri del Servizio di Prevenzione e Protezione dai rischi (DL RSPP) deve inoltre partecipare\, con cadenza quinquennale\, a specifici percorsi di aggiornamento la cui durata varia a seconda del livello di rischio aziendale: \n\nCorso di aggiornamento per Basso rischio: 6 ore\nCorsi di aggiornamento per Medio rischio: 10 ore\nCorsi di aggiornamento per Alto rischio: 14 ore\n\nIl corso di aggiornamento per Datore di Lavoro RSPP può essere legalmente svolto in modalità eLearning per tutti e tre i livelli di rischio aziendali. \nI corsi di aggiornamento per Datore di lavoro RSPP affrontano le evoluzioni della sicurezza sul lavoro e gli approfondimenti tecnico-organizzativi e giuridico-normativi\, i sistemi di gestione e i processi organizzativi\, le fonti di rischio\, compresi i rischi di tipo ergonomico\, le tecniche di comunicazione volte all’informazione e alla formazione dei lavoratori in tema di promozione della salute e della sicurezza nei luoghi di lavoro. \n  \n\n\nDocenti\n\n\nIl Corso prevede l’apporto di professionalità specialistiche in grado di offrire ai partecipanti elementi didattici sia teorici che pratici. I docenti sono esperti di sicurezza\, con pluriennale esperienza e sono in possesso delle qualifiche previste dall’Accordo Stato Regioni del 7/7/2016\, rep. atti n. 128/CSR e dal D.l. 6/3/13 relativo alla qualificazione dei docenti nei corsi di formazione sulla salute e sicurezza sul lavoro. \n  \n\n\nAttestato\n\n\nPer ogni partecipante a seguito di superamento della verifica finale verrà rilasciato attestato di formazione. \n\n\n  \n[/vc_column_text][/vc_column][/vc_row]\n\n  \n\n\n\n\n\n\n\n\n\nDichiaro di aver letto e compreso l'informativa\, i consensi obbligatori da prestare ed i miei diritti\nConsenso al trattamento dei dati per finalità di marketing come indicato nel relativo paragrafo dell'informativa privacy):\nAcconsentoNon acconsento
URL:https://previtalgroup.it/corsi/corso-rspp-datore-di-lavoro-lezione-3-4/
LOCATION:Milano
CATEGORIES:RSPP
END:VEVENT
END:VCALENDAR