BEGIN:VCALENDAR
VERSION:2.0
PRODID:-//Prevital Group Srl - ECPv6.15.20//NONSGML v1.0//EN
CALSCALE:GREGORIAN
METHOD:PUBLISH
X-WR-CALNAME:Prevital Group Srl
X-ORIGINAL-URL:https://previtalgroup.it
X-WR-CALDESC:Eventi per Prevital Group Srl
REFRESH-INTERVAL;VALUE=DURATION:PT1H
X-Robots-Tag:noindex
X-PUBLISHED-TTL:PT1H
BEGIN:VTIMEZONE
TZID:UTC
BEGIN:STANDARD
TZOFFSETFROM:+0000
TZOFFSETTO:+0000
TZNAME:UTC
DTSTART:20240101T000000
END:STANDARD
END:VTIMEZONE
BEGIN:VEVENT
DTSTART;TZID=UTC:20250917T083000
DTEND;TZID=UTC:20250917T173000
DTSTAMP:20260419T214515
CREATED:20250730T064840Z
LAST-MODIFIED:20251003T090847Z
UID:34406-1758097800-1758130200@previtalgroup.it
SUMMARY:CORSO PAV-PES-PEI - LEZIONE 1
DESCRIPTION:Il decreto legislativo 81/2008 prevede che l’esecuzione di lavori su parti in tensione sia affidata a lavoratori riconosciuti idonei dal datore di lavoro secondo le indicazioni della normativa tecnica. \nI corsi di rischio elettrico hanno l’obiettivo di fornire al lavoratore le conoscenze teoriche e pratiche al rischio elettrico su parti in tensione. Il datore di lavoro\, a conclusione del corso di formazione e sulla base degli altri elementi già in suo possesso (grado di esperienza nei lavori su impianti elettrici fuori tensione o in prossimità\, e/o su impianti elettrici in bassa tensione sotto tensione\, affidabilità della persona\, senso di responsabilità\, eccetera)\, conferirà\, ai sensi della Norma CEI EN 50110 – 1 e della Norma CEI 11 – 27\, il riconoscimento di Persona esperta (PES) o di Persona avvertita (PAV)\, nonché l’attestazione della “Idoneità” a svolgere lavori “sotto tensione su impianti a bassa tensione”. \nIl corso PAV PES PEI ha una durata di 14 ore e scadenza quinquennale. Per l’aggiornamento della formazione è necessario frequentare l’Aggiornamento PAV PES PEI di 4 ore. Il corso si propone di fornire ai partecipanti le conoscenze tecniche per eseguire i lavori elettrici quali per esempio le nuove installazioni\, la manutenzione sulle macchine e sugli impianti con parti in o fuori tensione. \n\n\n  \n\n\n\n\n\n\n\n\n\nDichiaro di aver letto e compreso l'informativa\, i consensi obbligatori da prestare ed i miei diritti\nConsenso al trattamento dei dati per finalità di marketing come indicato nel relativo paragrafo dell'informativa privacy):\nAcconsentoNon acconsento
URL:https://previtalgroup.it/corsi/corso-pav-pes-pei-lezione-1-3/
LOCATION:Prevital Group\, Via J.F. Kennedy\, 29\, Cerro Maggiore\, Milano\, 20023\, Italia
CATEGORIES:Lavori natura elettrica
END:VEVENT
BEGIN:VEVENT
DTSTART;TZID=UTC:20250924T083000
DTEND;TZID=UTC:20250924T173000
DTSTAMP:20260419T214515
CREATED:20250730T064919Z
LAST-MODIFIED:20251003T090459Z
UID:34408-1758702600-1758735000@previtalgroup.it
SUMMARY:CORSO PAV-PES-PEI - LEZIONE 2
DESCRIPTION:Il decreto legislativo 81/2008 prevede che l’esecuzione di lavori su parti in tensione sia affidata a lavoratori riconosciuti idonei dal datore di lavoro secondo le indicazioni della normativa tecnica. \nI corsi di rischio elettrico hanno l’obiettivo di fornire al lavoratore le conoscenze teoriche e pratiche al rischio elettrico su parti in tensione. Il datore di lavoro\, a conclusione del corso di formazione e sulla base degli altri elementi già in suo possesso (grado di esperienza nei lavori su impianti elettrici fuori tensione o in prossimità\, e/o su impianti elettrici in bassa tensione sotto tensione\, affidabilità della persona\, senso di responsabilità\, eccetera)\, conferirà\, ai sensi della Norma CEI EN 50110 – 1 e della Norma CEI 11 – 27\, il riconoscimento di Persona esperta (PES) o di Persona avvertita (PAV)\, nonché l’attestazione della “Idoneità” a svolgere lavori “sotto tensione su impianti a bassa tensione”. \nIl corso PAV PES PEI ha una durata di 14 ore e scadenza quinquennale. Per l’aggiornamento della formazione è necessario frequentare l’Aggiornamento PAV PES PEI di 4 ore. Il corso si propone di fornire ai partecipanti le conoscenze tecniche per eseguire i lavori elettrici quali per esempio le nuove installazioni\, la manutenzione sulle macchine e sugli impianti con parti in o fuori tensione. \n\n\n  \n\n\n\n\n\n\n\n\n\nDichiaro di aver letto e compreso l'informativa\, i consensi obbligatori da prestare ed i miei diritti\nConsenso al trattamento dei dati per finalità di marketing come indicato nel relativo paragrafo dell'informativa privacy):\nAcconsentoNon acconsento
URL:https://previtalgroup.it/corsi/corso-pav-pes-pei-lezione-2-4/
LOCATION:Prevital Group\, Via J.F. Kennedy\, 29\, Cerro Maggiore\, Milano\, 20023\, Italia
CATEGORIES:Lavori natura elettrica
END:VEVENT
END:VCALENDAR