BEGIN:VCALENDAR
VERSION:2.0
PRODID:-//Prevital Group Srl - ECPv6.15.20//NONSGML v1.0//EN
CALSCALE:GREGORIAN
METHOD:PUBLISH
X-ORIGINAL-URL:https://previtalgroup.it
X-WR-CALDESC:Eventi per Prevital Group Srl
REFRESH-INTERVAL;VALUE=DURATION:PT1H
X-Robots-Tag:noindex
X-PUBLISHED-TTL:PT1H
BEGIN:VTIMEZONE
TZID:UTC
BEGIN:STANDARD
TZOFFSETFROM:+0000
TZOFFSETTO:+0000
TZNAME:UTC
DTSTART:20220101T000000
END:STANDARD
END:VTIMEZONE
BEGIN:VEVENT
DTSTART;TZID=UTC:20230531T083000
DTEND;TZID=UTC:20230531T173000
DTSTAMP:20260422T065206
CREATED:20230519T141858Z
LAST-MODIFIED:20230519T141858Z
UID:20165-1685521800-1685554200@previtalgroup.it
SUMMARY:CORSO ANTINCENDIO LIV. 2 - 8 ORE
DESCRIPTION:Il datore di lavoro ha l’obbligo di designare preventivamente i lavoratori incaricati dell’attuazione delle misure di prevenzione incendi e lotta antincendio\, di evacuazione dei luoghi di lavoro in caso di pericolo immediato. \nIl riferimento legislativo per contenuti e durata della formazione è il D.M. n. 64 del 10/03/98\, che fornisce i criteri per la valutazione del rischio incendio nei luoghi di lavoro e stabilisce che\, in funzione del rischio incendio\, le durate dei corsi di formazione sono: \n\nattività a rischio incendio basso: 4 ore di formazione\nattività a rischio incendio medio: 8 ore di formazione\nattività a rischio incendio elevato: 16 ore di formazione\n\nAl termine del percorso formativo verrà consegnato un’attestato di idoneità tecnica\, rilasciato dal Comando dei Vigili del Fuoco previo superamento\, con esito positivo\, di un esame teorico e pratico. \nLa qualifica di addetto prevenzione incendi necessita di aggiornamento ogni 3 anni della durata di 2 ore per le attività rischio basso\, 5 ore rischio medio e 8 ore per le attività ad alto rischio. \n\n\n  \n\n\n\n\n\n\n\n\n\nDichiaro di aver letto e compreso l'informativa\, i consensi obbligatori da prestare ed i miei diritti\nConsenso al trattamento dei dati per finalità di marketing come indicato nel relativo paragrafo dell'informativa privacy):\nAcconsentoNon acconsento
URL:https://previtalgroup.it/corsi/corso-antincendio-liv-2-8-ore-2/
CATEGORIES:Antincendio
END:VEVENT
BEGIN:VEVENT
DTSTART;TZID=UTC:20230531T133000
DTEND;TZID=UTC:20230531T173000
DTSTAMP:20260422T065206
CREATED:20230519T142000Z
LAST-MODIFIED:20230519T142000Z
UID:20167-1685539800-1685554200@previtalgroup.it
SUMMARY:CORSO AGG. ANTINCENDIO LIV. 2 - 5 ORE
DESCRIPTION:Il datore di lavoro ha l’obbligo di designare preventivamente i lavoratori incaricati dell’attuazione delle misure di prevenzione incendi e lotta antincendio\, di evacuazione dei luoghi di lavoro in caso di pericolo immediato. \nIl riferimento legislativo per contenuti e durata della formazione è il D.M. n. 64 del 10/03/98\, che fornisce i criteri per la valutazione del rischio incendio nei luoghi di lavoro e stabilisce che\, in funzione del rischio incendio\, le durate dei corsi di formazione sono: \n\nattività a rischio incendio basso: 4 ore di formazione\nattività a rischio incendio medio: 8 ore di formazione\nattività a rischio incendio elevato: 16 ore di formazione\n\nAl termine del percorso formativo verrà consegnato un’attestato di idoneità tecnica\, rilasciato dal Comando dei Vigili del Fuoco previo superamento\, con esito positivo\, di un esame teorico e pratico. \nLa qualifica di addetto prevenzione incendi necessita di aggiornamento ogni 3 anni della durata di 2 ore per le attività rischio basso\, 5 ore rischio medio e 8 ore per le attività ad alto rischio. \n \n\n\n  \n\n\n\n\n\n\n\n\n\nDichiaro di aver letto e compreso l'informativa\, i consensi obbligatori da prestare ed i miei diritti\nConsenso al trattamento dei dati per finalità di marketing come indicato nel relativo paragrafo dell'informativa privacy):\nAcconsentoNon acconsento
URL:https://previtalgroup.it/corsi/corso-agg-antincendio-liv-2-5-ore/
CATEGORIES:Antincendio
END:VEVENT
END:VCALENDAR